BEGIN:VCALENDAR
VERSION:2.0
PRODID:-//wp-events-plugin.com//7.2.3.1//EN
TZID:Europe/Berlin
X-WR-TIMEZONE:Europe/Berlin
BEGIN:VEVENT
UID:10@ggopen.de
DTSTART;TZID=Europe/Berlin:20260213T170000
DTEND;TZID=Europe/Berlin:20260213T220000
DTSTAMP:20260206T142409Z
URL:https://www.ggopen.de/events/open-friday-karaoke-karneval-press-start-
 to-party/
SUMMARY:Open Friday | KARAOKE - Karneval: Press Start to Party
DESCRIPTION:Bühne frei für unsere legendäre Karaoke-Show. Diesmal unter 
 dem Motto: "Karneval - Press Start to Party". Lustige und kreative Party-O
 utfits sind erwünscht. Wir sorgen mit leidenschaftlicher Deko\, einem spe
 ziellen Motto-Cocktail und einer Happy-Hour-Aktion für den ansprechenden 
 Rahmen eines unvergesslichen Abends.\n\nIm Zentrum steht natürlich die Mu
 sik. Das offene Mikrofon steht jeder Person zur Verfügung\, die ihr pers
 önliches Lieblings-Liedgut zum Besten geben möchte. Liedwünsche werden 
 fortlaufend von der Regie entgegengenommen. Vor allem zum Motto des Tages 
 passend\, gerne aber auch darüber hinaus.\n\nAlso: Einfach vorbeikommen\,
  mitsingen\, mitfeiern. Tickets sind nicht erforderlich\, der Eintritt ist
  frei\, wir sind ehrenamtlich für euch im Einsatz.\n\nDas Mitbringen von 
 Essen oder Trinken ist nicht erlaubt\, wir bitten um Verständnis.
ATTACH;FMTTYPE=image/jpeg:https://www.ggopen.de/wp-content/uploads/2026/01
 /02_Karaoke-scaled.png
CATEGORIES:Event
LOCATION:GG Open Lobby\, Hauptstraße 240\, Herne\, 44649\, Deutschland
X-APPLE-STRUCTURED-LOCATION;VALUE=URI;X-ADDRESS=Hauptstraße 240\, Herne\, 
 44649\, Deutschland;X-APPLE-RADIUS=100;X-TITLE=GG Open Lobby:geo:0,0
END:VEVENT
BEGIN:VTIMEZONE
TZID:Europe/Berlin
X-LIC-LOCATION:Europe/Berlin
BEGIN:STANDARD
DTSTART:20251026T020000
TZOFFSETFROM:+0200
TZOFFSETTO:+0100
TZNAME:CET
END:STANDARD
END:VTIMEZONE
END:VCALENDAR